BEGIN:VCALENDAR
VERSION:2.0
CALSCALE:GREGORIAN
PRODID:-//MyApp//Calendar 1.0//EN
BEGIN:VEVENT
METHOD:PUBLISH
UID:33335@regionalniportaly.cz
DTSTAMP:20260422T011956Z
DTSTART;VALUE=DATE:20230728
DTEND;VALUE=DATE:20230729
SUMMARY:Karel Kahovec + Beatles Revival + vzpomínka na Petra Nováka
DESCRIPTION:Legendární Karel Kahovec + Beatles Revival + vzpomínka na Petra Nováka v Lounech ve Stromovce - pátek 28.7.2023 od 20:00
LOCATION:Louny
END:VEVENT
END:VCALENDAR