BEGIN:VCALENDAR
VERSION:2.0
CALSCALE:GREGORIAN
PRODID:-//MyApp//Calendar 1.0//EN
BEGIN:VEVENT
METHOD:PUBLISH
UID:32089@regionalniportaly.cz
DTSTAMP:20260422T024036Z
DTSTART;VALUE=DATE:20230909
DTEND;VALUE=DATE:20230910
SUMMARY:DRUM FLOW Fest v Panenském Týnci
DESCRIPTION:Zveme vás na&nbsp\;6. ročník jednodenního&nbsp\;DRUM FLOW festivalu&nbsp\;hudby a relaxace v magickém prostoru Nedostavěného chrámu v Panenském Týnci.Pojďme společně&nbsp\;oživovat sílu starých kultovních míst pomocí bubnů\, tance a zpěvu!&nbsp\;PROGRAM12:00 .. Zahajovací rituál\, představení účinkujících a napojení na silové místo13:00 .. DRUM FLOW Spontánní bubnování©\, tanec a zpěv15:00 .. Hangdrum\, zpěv a tanec v energetickém víru chrámu17:00 .. Volná diskuse (přestávka)18:00 .. Kakaová ceremonie19:00 .. Divoké bubnování a těsně po západu Slunce FIRESHOW21:00 .. Závěrečné sdíleníDŮLEŽITÉ INFORMACEPřineste si svůj hudební nástroj\, buben\, chřestidlo nebo píšťalu\, několik bubnů budeme mít i k zapůjčení na místě.Ženy volné šaty na tanec.Na sezení karimatku nebo kempovací stoličku.Teplé oblečení na večer\, neboť noci bývají už chladné.Svačinu s sebou\, protože občerstvení nezajišťujeme. Veganská jídla preferována. Když vezmete i něco k nabídnutí ostatním\, budeme velmi rádi.Každý účastník si řeší ubytování na vlastní zodpovědnost. Připomínáme\, že chrám je kulturní památkou.Pokud jedete autem\, nabídněte spolujízdu. Pokud hledáte místo v autě\, napište do komentářů pod událost na facebooku nebo do DRUM FLOW fanklub.&nbsp\;FESTIVAL PROBĚHNE NA ZELENÉ LOUCE ZA CHRÁMEMSraz je na louce za chrámem ve 11:30 za každého počasí.
LOCATION:Panenský Týnec
END:VEVENT
END:VCALENDAR